BEGIN:VCALENDAR
VERSION:2.0
PRODID:-//Óbudai Nyár 2025 | obuda.hu - ECPv5.10.1//NONSGML v1.0//EN
CALSCALE:GREGORIAN
METHOD:PUBLISH
X-WR-CALNAME:Óbudai Nyár 2025 | obuda.hu
X-ORIGINAL-URL:https://www.obudainyar.hu
X-WR-CALDESC:Events for Óbudai Nyár 2025 | obuda.hu
BEGIN:VTIMEZONE
TZID:Europe/Budapest
BEGIN:DAYLIGHT
TZOFFSETFROM:+0100
TZOFFSETTO:+0200
TZNAME:CEST
DTSTART:20250330T010000
END:DAYLIGHT
BEGIN:STANDARD
TZOFFSETFROM:+0200
TZOFFSETTO:+0100
TZNAME:CET
DTSTART:20251026T010000
END:STANDARD
END:VTIMEZONE
BEGIN:VEVENT
DTSTART;TZID=Europe/Budapest:20250822T200000
DTEND;TZID=Europe/Budapest:20250822T200000
DTSTAMP:20260425T150315
CREATED:20250521T143908Z
LAST-MODIFIED:20250521T143908Z
UID:5253-1755892800-1755892800@www.obudainyar.hu
SUMMARY:A nagy Gatsby
DESCRIPTION:A nagy Gatsby lenyűgözően kelti életre az 1920-as évek Amerikájának pompáját és romlottságát. A történet középpontjában a titokzatos milliomos\, Jay Gatsby (Leonardo DiCaprio) áll\, aki fényűző partijai mögött egyetlen cél vezérel: visszaszerezni egykori szerelmét. \nHelyszín: Békásmegyer\, Csobánka tér \nEsőnap: 2025.augusztus 28. (csütörtök)
URL:https://www.obudainyar.hu/esemeny/a-nagy-gatsby/
CATEGORIES:PikNik Mozi
ATTACH;FMTTYPE=image/png:https://www.obudainyar.hu/wp-content/uploads/2025/05/piknik-mozi-2025-poszt-10.png
END:VEVENT
END:VCALENDAR