BEGIN:VCALENDAR
VERSION:2.0
PRODID:-//Óbudai Nyár 2025 | obuda.hu - ECPv5.10.1//NONSGML v1.0//EN
CALSCALE:GREGORIAN
METHOD:PUBLISH
X-WR-CALNAME:Óbudai Nyár 2025 | obuda.hu
X-ORIGINAL-URL:https://www.obudainyar.hu
X-WR-CALDESC:Events for Óbudai Nyár 2025 | obuda.hu
BEGIN:VTIMEZONE
TZID:Europe/Budapest
BEGIN:DAYLIGHT
TZOFFSETFROM:+0100
TZOFFSETTO:+0200
TZNAME:CEST
DTSTART:20250330T010000
END:DAYLIGHT
BEGIN:STANDARD
TZOFFSETFROM:+0200
TZOFFSETTO:+0100
TZNAME:CET
DTSTART:20251026T010000
END:STANDARD
END:VTIMEZONE
BEGIN:VEVENT
DTSTART;VALUE=DATE:20250825
DTEND;VALUE=DATE:20250826
DTSTAMP:20260425T164009
CREATED:20250605T120635Z
LAST-MODIFIED:20250605T120635Z
UID:5446-1756080000-1756166399@www.obudainyar.hu
SUMMARY:Az ígéret hídja. 75 éves az Árpád híd
DESCRIPTION:Hosszú időn át ígéret maradt az óbudai híd\, amely nagyban megkönnyítette volna a városrészben élők közlekedését és több szempontból Óbuda fejlődését. A döntéshozók és a történelem viharai miatt csak 1950. november 7-én adták át a hidat\, igaz\, még nem az eredetileg tervezett néven. A főváros legforgalmasabb és sokáig leghosszabb hídjának története sok érdekességet és fordulatot rejt\, amelyről az Óbudai Múzeum traverz kiállítása rántja le a leplet. A kiállítás augusztus 25-étől látható a Kórház utcában. \n  \n  \nNyitókép: Fortepan
URL:https://www.obudainyar.hu/esemeny/az-igeret-hidja-75-eves-az-arpad-hid/
LOCATION:Óbudai Múzeum\, Fő tér 1.\, Budapest\, Pest\, 1033\, Magyarország
ATTACH;FMTTYPE=image/jpeg:https://www.obudainyar.hu/wp-content/uploads/2025/06/1..jpg
END:VEVENT
END:VCALENDAR