BEGIN:VCALENDAR
VERSION:2.0
PRODID:-//Óbudai Nyár 2025 | obuda.hu - ECPv5.10.1//NONSGML v1.0//EN
CALSCALE:GREGORIAN
METHOD:PUBLISH
X-WR-CALNAME:Óbudai Nyár 2025 | obuda.hu
X-ORIGINAL-URL:https://www.obudainyar.hu
X-WR-CALDESC:Events for Óbudai Nyár 2025 | obuda.hu
BEGIN:VTIMEZONE
TZID:Europe/Budapest
BEGIN:DAYLIGHT
TZOFFSETFROM:+0100
TZOFFSETTO:+0200
TZNAME:CEST
DTSTART:20250330T010000
END:DAYLIGHT
BEGIN:STANDARD
TZOFFSETFROM:+0200
TZOFFSETTO:+0100
TZNAME:CET
DTSTART:20251026T010000
END:STANDARD
END:VTIMEZONE
BEGIN:VEVENT
DTSTART;TZID=Europe/Budapest:20250809T101500
DTEND;TZID=Europe/Budapest:20250809T114500
DTSTAMP:20260425T163603
CREATED:20250630T085600Z
LAST-MODIFIED:20250730T092222Z
UID:5498-1754734500-1754739900@www.obudainyar.hu
SUMMARY:Goldberger lépték
DESCRIPTION:Az Óbudai Múzeum – Goldberger Textilipari Gyűjteményének új felfedező sétája során az érdeklődők bepillantást kapnak az egykori textilgyár életének mozzanataiba\, megismerhetik a főbb gyáregységeket és azok épületeit\, az itt dolgozók mindennapjait\, a gyáralapító család történetét és a volt gyár területének jelenét is.\nTartson velünk és fedezzük fel együtt a Goldberger léptéket! \nIndulás: a Goldberger recepciójától \nA sétát tartja: Varga-Kalló Regina\, történész-muzeológus \nRegisztráció: https://app.minup.io/book/obudai-muzeum/events/449d738d-432f-497d-ab42-66243e66c0f5 \nA séta nem akadálymentes. \nAudio guide készülék biztosított de kérjük\, ha korábbi sétáról van saját fülhallgatója – a környezettudatosság jegyében – hozza magával! \nAz Óbudai Múzeum – Goldberger Textilipari Gyűjtemény adatvédelmi szabályaikról itt tájékozódhatnak: https://goldbergermuzeum.hu/wp-content/uploads/kozerdeku_informaciok/om_adatkezelesi_tajekoztato_202308.pdf \n 
URL:https://www.obudainyar.hu/esemeny/goldberger-leptek/
LOCATION:Goldberger Textilipari Gyűjtemény\, Lajos utca 136-138.\, Budapest\, Pest\, 1036\, Magyarország
ATTACH;FMTTYPE=image/jpeg:https://www.obudainyar.hu/wp-content/uploads/2025/06/Goldberger-2048x1360-1.jpg
GEO:47.5356067;19.0430427
X-APPLE-STRUCTURED-LOCATION;VALUE=URI;X-ADDRESS=Goldberger Textilipari Gyűjtemény Lajos utca 136-138. Budapest Pest 1036 Magyarország;X-APPLE-RADIUS=500;X-TITLE=Lajos utca 136-138.:geo:19.0430427,47.5356067
END:VEVENT
END:VCALENDAR