BEGIN:VCALENDAR
VERSION:2.0
PRODID:-//Óbudai Nyár 2025 | obuda.hu - ECPv5.10.1//NONSGML v1.0//EN
CALSCALE:GREGORIAN
METHOD:PUBLISH
X-WR-CALNAME:Óbudai Nyár 2025 | obuda.hu
X-ORIGINAL-URL:https://www.obudainyar.hu
X-WR-CALDESC:Events for Óbudai Nyár 2025 | obuda.hu
BEGIN:VTIMEZONE
TZID:Europe/Budapest
BEGIN:DAYLIGHT
TZOFFSETFROM:+0100
TZOFFSETTO:+0200
TZNAME:CEST
DTSTART:20250330T010000
END:DAYLIGHT
BEGIN:STANDARD
TZOFFSETFROM:+0200
TZOFFSETTO:+0100
TZNAME:CET
DTSTART:20251026T010000
END:STANDARD
END:VTIMEZONE
BEGIN:VEVENT
DTSTART;TZID=Europe/Budapest:20250705T140000
DTEND;TZID=Europe/Budapest:20250705T150000
DTSTAMP:20260425T160654
CREATED:20250630T113734Z
LAST-MODIFIED:20250702T072622Z
UID:5496-1751724000-1751727600@www.obudainyar.hu
SUMMARY:Múzeumszombat
DESCRIPTION:Ezúttal a Goldberger Textilipari Gyűjtemény állandó kiállítását tekinthetik meg az érdeklődők. Megismerkedhetnek a Goldberger család és textilgyáruk történetével\, betekinthetnek Óbuda textilipari múltjának egy kis szeletébe. \nIdőpont: július 5.\, szombat 14.00 – 15.00 \nA vezetést tartja: Varga-Kalló Regina\, történész-muzeológus \nMin. létszám: 5 fő\nMax. létszám: 20 fő \nRegisztráció: https://app.minup.io/book/obudai-muzeum/events/f9a6458d-25cf-47cf-97f8-2083e56ebb27 \nAz Óbudai Múzeum adatvédelmi szabályairól itt tájékozódhatnak: https://goldbergermuzeum.hu/wp-content/uploads/kozerdeku_informaciok/om_adatkezelesi_tajekoztato_202308.pdf
URL:https://www.obudainyar.hu/esemeny/muzeumszombat-2/
LOCATION:Goldberger Textilipari Gyűjtemény\, Lajos utca 136-138.\, Budapest\, Pest\, 1036\, Magyarország
ATTACH;FMTTYPE=image/jpeg:https://www.obudainyar.hu/wp-content/uploads/2025/06/Goldberger-2048x1360-1.jpg
GEO:47.5356067;19.0430427
X-APPLE-STRUCTURED-LOCATION;VALUE=URI;X-ADDRESS=Goldberger Textilipari Gyűjtemény Lajos utca 136-138. Budapest Pest 1036 Magyarország;X-APPLE-RADIUS=500;X-TITLE=Lajos utca 136-138.:geo:19.0430427,47.5356067
END:VEVENT
END:VCALENDAR