BEGIN:VCALENDAR
VERSION:2.0
PRODID:-//Óbudai Nyár 2025 | obuda.hu - ECPv5.10.1//NONSGML v1.0//EN
CALSCALE:GREGORIAN
METHOD:PUBLISH
X-WR-CALNAME:Óbudai Nyár 2025 | obuda.hu
X-ORIGINAL-URL:https://www.obudainyar.hu
X-WR-CALDESC:Events for Óbudai Nyár 2025 | obuda.hu
BEGIN:VTIMEZONE
TZID:Europe/Budapest
BEGIN:DAYLIGHT
TZOFFSETFROM:+0100
TZOFFSETTO:+0200
TZNAME:CEST
DTSTART:20250330T010000
END:DAYLIGHT
BEGIN:STANDARD
TZOFFSETFROM:+0200
TZOFFSETTO:+0100
TZNAME:CET
DTSTART:20251026T010000
END:STANDARD
END:VTIMEZONE
BEGIN:VEVENT
DTSTART;TZID=Europe/Budapest:20250913T100000
DTEND;TZID=Europe/Budapest:20250913T220000
DTSTAMP:20260425T173621
CREATED:20250529T122941Z
LAST-MODIFIED:20250909T093516Z
UID:5352-1757757600-1757800800@www.obudainyar.hu
SUMMARY:Csillaghegy a mi kis falunk
DESCRIPTION:A nap házigazdája Seszták Szabolcs \nSzínpadi programok: \n10.10–10.50 Brandnyúl és barátai – minidisco\n11.00–11.45 Varázs Tamás – bűvész\n12.00–12.45 Csillaghegy tortája\n13.00–13.30 Göncöl Néptáncegyüttes\n13.30–14.00 Thalassa tánccsoport- görög táncház\n14.15–15.00 IceCream Supersession\n16.00–16.45 Hevesi Tamás és zenekara\n17.30–18.15 Mészáros Tamás és Lőrincz Ádám – Voice&Piano  \n19.00-19.45 Krisz Rudi\n20.45–22.05 Groovehouse\nKézműves vásár\, gasztrosátrak\, finomságok\, interaktív gyerekfoglalkozások az Egyboglya Alapítvánnyal. \nSzeretettel várjuk Önöket! \nA programváltoztatás jogát fenntartjuk.
URL:https://www.obudainyar.hu/esemeny/csillaghegy-a-mi-kis-falunk/
LOCATION:Mátyás király út\, Mátyás király út\, Budapest\, Budapest\, 1039\, Magyarország
CATEGORIES:Csillaghegy a mi kis falunk
ATTACH;FMTTYPE=image/png:https://www.obudainyar.hu/wp-content/uploads/2025/08/nyarbucsuztato-csillaghegy-datumicecream.png
END:VEVENT
END:VCALENDAR