BEGIN:VCALENDAR
VERSION:2.0
PRODID:-//Óbudai Nyár 2025 | obuda.hu - ECPv5.10.1//NONSGML v1.0//EN
CALSCALE:GREGORIAN
METHOD:PUBLISH
X-WR-CALNAME:Óbudai Nyár 2025 | obuda.hu
X-ORIGINAL-URL:https://www.obudainyar.hu
X-WR-CALDESC:Events for Óbudai Nyár 2025 | obuda.hu
BEGIN:VTIMEZONE
TZID:Europe/Budapest
BEGIN:DAYLIGHT
TZOFFSETFROM:+0100
TZOFFSETTO:+0200
TZNAME:CEST
DTSTART:20250330T010000
END:DAYLIGHT
BEGIN:STANDARD
TZOFFSETFROM:+0200
TZOFFSETTO:+0100
TZNAME:CET
DTSTART:20251026T010000
END:STANDARD
END:VTIMEZONE
BEGIN:VEVENT
DTSTART;TZID=Europe/Budapest:20250629T193000
DTEND;TZID=Europe/Budapest:20250629T210000
DTSTAMP:20260425T202132
CREATED:20250522T141407Z
LAST-MODIFIED:20250523T080344Z
UID:5327-1751225400-1751230800@www.obudainyar.hu
SUMMARY:Danubia Zenakar élő koncert
DESCRIPTION:
URL:https://www.obudainyar.hu/esemeny/danubia-zenakar-elo-koncert/
LOCATION:Pest
CATEGORIES:Nyárnyitó
ATTACH;FMTTYPE=image/png:https://www.obudainyar.hu/wp-content/uploads/2025/05/20230818_Cinem.P_Fabian_Gabor.png
END:VEVENT
BEGIN:VEVENT
DTSTART;TZID=Europe/Budapest:20250629T120000
DTEND;TZID=Europe/Budapest:20250629T180000
DTSTAMP:20260425T202132
CREATED:20250522T141211Z
LAST-MODIFIED:20250523T080423Z
UID:5324-1751198400-1751220000@www.obudainyar.hu
SUMMARY:Német Nemzetiségi Önkormányzat: Óbudai búcsú és kórustalálkozó
DESCRIPTION:  \n 
URL:https://www.obudainyar.hu/esemeny/nemet-nemzetisegi-onkormanyzat-obudai-bucsu-es-korustalalkozo/
LOCATION:Pest
CATEGORIES:Nyárnyitó
ATTACH;FMTTYPE=image/png:https://www.obudainyar.hu/wp-content/uploads/2025/05/Obudai-Bucsu.png
END:VEVENT
BEGIN:VEVENT
DTSTART;TZID=Europe/Budapest:20250628T200000
DTEND;TZID=Europe/Budapest:20250628T213000
DTSTAMP:20260425T202132
CREATED:20250522T140944Z
LAST-MODIFIED:20250523T080940Z
UID:5320-1751140800-1751146200@www.obudainyar.hu
SUMMARY:Charlie élő koncert
DESCRIPTION:
URL:https://www.obudainyar.hu/esemeny/charlie-elo-koncert/
LOCATION:Pest
CATEGORIES:Nyárnyitó
ATTACH;FMTTYPE=image/png:https://www.obudainyar.hu/wp-content/uploads/2025/05/Charlie-2.png
END:VEVENT
BEGIN:VEVENT
DTSTART;TZID=Europe/Budapest:20250628T170000
DTEND;TZID=Europe/Budapest:20250628T183000
DTSTAMP:20260425T202132
CREATED:20250523T080132Z
LAST-MODIFIED:20250523T080132Z
UID:5318-1751130000-1751135400@www.obudainyar.hu
SUMMARY:Paulina
DESCRIPTION:
URL:https://www.obudainyar.hu/esemeny/paulina/
LOCATION:Fő tér\, Fő tér 3.\, Budapest\, Pest\, 1033\, Magyarország
CATEGORIES:Nyárnyitó
ATTACH;FMTTYPE=image/png:https://www.obudainyar.hu/wp-content/uploads/2025/05/Paulina.png
GEO:47.5416808;19.0450078
X-APPLE-STRUCTURED-LOCATION;VALUE=URI;X-ADDRESS=Fő tér Fő tér 3. Budapest Pest 1033 Magyarország;X-APPLE-RADIUS=500;X-TITLE=Fő tér 3.:geo:19.0450078,47.5416808
END:VEVENT
BEGIN:VEVENT
DTSTART;TZID=Europe/Budapest:20250628T140000
DTEND;TZID=Europe/Budapest:20250628T153000
DTSTAMP:20260425T202132
CREATED:20250522T140220Z
LAST-MODIFIED:20250522T140220Z
UID:5316-1751119200-1751124600@www.obudainyar.hu
SUMMARY:Gudics Máté élő koncert
DESCRIPTION:
URL:https://www.obudainyar.hu/esemeny/gudics-mate-elo-koncert/
LOCATION:Fő tér\, Fő tér 3.\, Budapest\, Pest\, 1033\, Magyarország
CATEGORIES:Nyárnyitó
ATTACH;FMTTYPE=image/png:https://www.obudainyar.hu/wp-content/uploads/2025/05/Gudics-Mate-foto-1.png
GEO:47.5416808;19.0450078
X-APPLE-STRUCTURED-LOCATION;VALUE=URI;X-ADDRESS=Fő tér Fő tér 3. Budapest Pest 1033 Magyarország;X-APPLE-RADIUS=500;X-TITLE=Fő tér 3.:geo:19.0450078,47.5416808
END:VEVENT
BEGIN:VEVENT
DTSTART;TZID=Europe/Budapest:20250628T113000
DTEND;TZID=Europe/Budapest:20250628T123000
DTSTAMP:20260425T202132
CREATED:20250522T130816Z
LAST-MODIFIED:20250522T130816Z
UID:5291-1751110200-1751113800@www.obudainyar.hu
SUMMARY:Óperenciás Bábszínház
DESCRIPTION:
URL:https://www.obudainyar.hu/esemeny/operencias-babszinhaz/
LOCATION:Fő tér\, Fő tér 3.\, Budapest\, Pest\, 1033\, Magyarország
CATEGORIES:Nyárnyitó
ATTACH;FMTTYPE=image/png:https://www.obudainyar.hu/wp-content/uploads/2025/05/Csalafintasagok-a-csalitosban-eloadas-nagy-meretu-kep.png
GEO:47.5416808;19.0450078
X-APPLE-STRUCTURED-LOCATION;VALUE=URI;X-ADDRESS=Fő tér Fő tér 3. Budapest Pest 1033 Magyarország;X-APPLE-RADIUS=500;X-TITLE=Fő tér 3.:geo:19.0450078,47.5416808
END:VEVENT
BEGIN:VEVENT
DTSTART;TZID=Europe/Budapest:20250628T100000
DTEND;TZID=Europe/Budapest:20250628T110000
DTSTAMP:20260425T202132
CREATED:20250522T130258Z
LAST-MODIFIED:20250603T121859Z
UID:5289-1751104800-1751108400@www.obudainyar.hu
SUMMARY:Bogár Muzsika gyerekzenekar
DESCRIPTION:
URL:https://www.obudainyar.hu/esemeny/bogarmuzsika-gyerekzenekar/
LOCATION:Fő tér\, Fő tér 3.\, Budapest\, Pest\, 1033\, Magyarország
CATEGORIES:Nyárnyitó
ATTACH;FMTTYPE=image/png:https://www.obudainyar.hu/wp-content/uploads/2025/05/Bogarmuzsika.png
GEO:47.5416808;19.0450078
X-APPLE-STRUCTURED-LOCATION;VALUE=URI;X-ADDRESS=Fő tér Fő tér 3. Budapest Pest 1033 Magyarország;X-APPLE-RADIUS=500;X-TITLE=Fő tér 3.:geo:19.0450078,47.5416808
END:VEVENT
BEGIN:VEVENT
DTSTART;TZID=Europe/Budapest:20250627T200000
DTEND;TZID=Europe/Budapest:20250627T213000
DTSTAMP:20260425T202132
CREATED:20250523T075809Z
LAST-MODIFIED:20250523T075809Z
UID:5287-1751054400-1751059800@www.obudainyar.hu
SUMMARY:Kökény Attila és Rakonczai Viktor élő koncert
DESCRIPTION:
URL:https://www.obudainyar.hu/esemeny/kokeny-attila-es-rakonczai-viktor-elo-koncert/
LOCATION:Fő tér\, Fő tér 3.\, Budapest\, Pest\, 1033\, Magyarország
CATEGORIES:Nyárnyitó
ATTACH;FMTTYPE=image/png:https://www.obudainyar.hu/wp-content/uploads/2025/05/KokenyAttila-RakonczaiViktor.png
GEO:47.5416808;19.0450078
X-APPLE-STRUCTURED-LOCATION;VALUE=URI;X-ADDRESS=Fő tér Fő tér 3. Budapest Pest 1033 Magyarország;X-APPLE-RADIUS=500;X-TITLE=Fő tér 3.:geo:19.0450078,47.5416808
END:VEVENT
BEGIN:VEVENT
DTSTART;TZID=Europe/Budapest:20250627T170000
DTEND;TZID=Europe/Budapest:20250627T183000
DTSTAMP:20260425T202132
CREATED:20250522T123156Z
LAST-MODIFIED:20250523T072556Z
UID:5272-1751043600-1751049000@www.obudainyar.hu
SUMMARY:Bereczki Zoltán élő koncert
DESCRIPTION:
URL:https://www.obudainyar.hu/esemeny/bereczki-zoltan-elo-koncert/
LOCATION:Fő tér\, Fő tér 3.\, Budapest\, Pest\, 1033\, Magyarország
CATEGORIES:Nyárnyitó
ATTACH;FMTTYPE=image/png:https://www.obudainyar.hu/wp-content/uploads/2025/05/Bereczki-foto.png
GEO:47.5416808;19.0450078
X-APPLE-STRUCTURED-LOCATION;VALUE=URI;X-ADDRESS=Fő tér Fő tér 3. Budapest Pest 1033 Magyarország;X-APPLE-RADIUS=500;X-TITLE=Fő tér 3.:geo:19.0450078,47.5416808
END:VEVENT
BEGIN:VEVENT
DTSTART;TZID=Europe/Budapest:20250627T150000
DTEND;TZID=Europe/Budapest:20250629T203000
DTSTAMP:20260425T202132
CREATED:20250523T074103Z
LAST-MODIFIED:20250626T102945Z
UID:5336-1751036400-1751229000@www.obudainyar.hu
SUMMARY:Nyárnyitó fesztivál
DESCRIPTION:Nyitó hétvégénkre érdemes felkészülni: klasszisok a színpadon\, finomságok a gasztrosátrakban\, fesztiválhangulat a Fő téren! \nÓbuda-Békásmegyer Önkormányzat ünnepélyes megnyitója \nKöszöntőt mond: Őexc. Bui Le Thai úr vietnámi nagykövet \nProgram: \n\njúnius 27.\, péntek\n\n15.15–16.00       Vietnámi kulturális bemutató \n17.00–18.30      Bereczki Zoltán élő koncert \n20.00—21.30     Kökény Attila és Rakonczai Viktor élő koncert \n  \n\njúnius 28.\, szombat\n\n  \n10.00–10.45      Bogármuzsika gyerekzenekar \n11.30–12.30      Óperenciás Bábszínház – Csalafintaságok a Csalitosban mesejáték \n14.00–15.30      Gudics Máté élő koncert \n17.00–18.30      Paulina élő koncert \n20.00–21.30      Charlie élő koncert \n  \n\njúnius 29.\, vasárnap\n\n  \n12.00–18.00      Német Nemzetiségi Önkormányzat: Óbudai búcsú és kórustalálkozó \n19.30–21.00      Danubia Zenekar élő koncert \n  \n  \n 
URL:https://www.obudainyar.hu/esemeny/nyarnyito-fesztival/
LOCATION:Fő tér\, Fő tér 3.\, Budapest\, Pest\, 1033\, Magyarország
CATEGORIES:Nyárnyitó
ATTACH;FMTTYPE=image/png:https://www.obudainyar.hu/wp-content/uploads/2024/06/ONY2025_hero-NYARNYITO.png
GEO:47.5416808;19.0450078
X-APPLE-STRUCTURED-LOCATION;VALUE=URI;X-ADDRESS=Fő tér Fő tér 3. Budapest Pest 1033 Magyarország;X-APPLE-RADIUS=500;X-TITLE=Fő tér 3.:geo:19.0450078,47.5416808
END:VEVENT
BEGIN:VEVENT
DTSTART;TZID=Europe/Budapest:20250627T150000
DTEND;TZID=Europe/Budapest:20250628T130000
DTSTAMP:20260425T202132
CREATED:20250522T131638Z
LAST-MODIFIED:20250626T105625Z
UID:5294-1751036400-1751115600@www.obudainyar.hu
SUMMARY:Vietnámi kulturális bemutató
DESCRIPTION:Megnyitó \nJúnius 27.\, péntek 15.00 óra \nÜnnepélyes köszöntőt mond: Őexcellenciája Bui Le Thai nagykövet \nProgramok: \nJúnius 27. \n15.15—16.00 – Vietnámi hagyományos zenei és táncbemutató\, melynek során megismerhetik a vietnámi népviseletet is \n17.00—18.00 – Vietenámi ízek\, gasztronómiai bemutató és kóstoló \nJúnius 28. \n12.00—13.00 – Vietnámi ízek\, gasztronómiai bemutató és kóstoló \n  \nMindkét napon:  \nIsmerjük meg Vietnámot! \n\nKalligráfia bemutató\nFotókiállítás – a vietnámi–magyar diplomácia 75 éve\, valamint vietnámi tájak\, kultúra és turizmus bemutatása\nVietnámi exporttermékek kiállítása\n\n  \nSzeretettel várjuk Önöket különleges kulturális bemutatónkra!
URL:https://www.obudainyar.hu/esemeny/vietnami-kulturalis-bemutato/
LOCATION:Pest
CATEGORIES:Nyárnyitó
ATTACH;FMTTYPE=image/jpeg:https://www.obudainyar.hu/wp-content/uploads/2025/05/z6618842334880_3b0906ffd39b4f61bdc5d3ba527be670.jpg
END:VEVENT
END:VCALENDAR