BEGIN:VCALENDAR
VERSION:2.0
PRODID:-//Óbudai Nyár 2025 | obuda.hu - ECPv5.10.1//NONSGML v1.0//EN
CALSCALE:GREGORIAN
METHOD:PUBLISH
X-WR-CALNAME:Óbudai Nyár 2025 | obuda.hu
X-ORIGINAL-URL:https://www.obudainyar.hu
X-WR-CALDESC:Events for Óbudai Nyár 2025 | obuda.hu
BEGIN:VTIMEZONE
TZID:Europe/Budapest
BEGIN:DAYLIGHT
TZOFFSETFROM:+0100
TZOFFSETTO:+0200
TZNAME:CEST
DTSTART:20250330T010000
END:DAYLIGHT
BEGIN:STANDARD
TZOFFSETFROM:+0200
TZOFFSETTO:+0100
TZNAME:CET
DTSTART:20251026T010000
END:STANDARD
END:VTIMEZONE
BEGIN:VEVENT
DTSTART;VALUE=DATE:20250620
DTEND;VALUE=DATE:20250823
DTSTAMP:20260425T172951
CREATED:20250521T134117Z
LAST-MODIFIED:20250522T110241Z
UID:5200-1750377600-1755907199@www.obudainyar.hu
SUMMARY:Piknik Mozi
DESCRIPTION:Negyedik éve futnak töretlen sikerrel a PikNik Mozi vetítések az Óbudai Nyár programsorozat részeként.  A balzsamos nyári esték\, a változatos műfajú filmek és a kötetlen\, természetközeli mozizás élménye  évről-évre többeket vonz\, hogy részesei legyenek ennek hamisítatlan nyáresti kikapcsolódásnak. \nA PikNik mozi rajongói idén sem fognak csalódni! Ezen a nyáron is 10 szenzációs filmmel\,  hatalmas — több\, mint 9 méter széles és 7 méter magas — vetítővászonnal várjuk Önöket a kerület 8 pontján\, június 20. és augusztus 22. között. \nMozizzunk együtt a csillagos ég alatt! \nIdei filmkínálatunk: \n \n  \n  \n 
URL:https://www.obudainyar.hu/esemeny/piknik-mozi/
CATEGORIES:PikNik Mozi
ATTACH;FMTTYPE=image/png:https://www.obudainyar.hu/wp-content/uploads/2025/05/PiknikMozi2025_Hero.png
END:VEVENT
BEGIN:VEVENT
DTSTART;TZID=Europe/Budapest:20250704T203000
DTEND;TZID=Europe/Budapest:20250704T203000
DTSTAMP:20260425T172951
CREATED:20250521T140344Z
LAST-MODIFIED:20250521T140344Z
UID:5226-1751661000-1751661000@www.obudainyar.hu
SUMMARY:Hogyan tudnék élni nélküled?
DESCRIPTION:A Demjén slágerekre épülő zenés vígjáték a 90-es évek hangulatát idézi meg\, miközben egy megható szerelmi történetet mesél el. \nEz a film nemcsak a közönség szívét hódította meg\, hanem filmtörténelmet is írt: már több mint 750 000 néző váltott rá jegyet! \nHelyszín: Bud Spencer Park \nEsőnap: 2025. július 10.
URL:https://www.obudainyar.hu/esemeny/hogyan-tudnek-elni-nelkuled/
CATEGORIES:PikNik Mozi
ATTACH;FMTTYPE=image/png:https://www.obudainyar.hu/wp-content/uploads/2025/05/piknik-mozi-2025-poszt-3.png
END:VEVENT
BEGIN:VEVENT
DTSTART;TZID=Europe/Budapest:20250711T203000
DTEND;TZID=Europe/Budapest:20250711T203000
DTSTAMP:20260425T172951
CREATED:20250521T141041Z
LAST-MODIFIED:20250521T141041Z
UID:5230-1752265800-1752265800@www.obudainyar.hu
SUMMARY:Velünk véget ér
DESCRIPTION:A Velünk véget ér nem csupán egy szerelmi történet; sokkal inkább egy nő küzdelme a múltjával\, a bántalmazás örökségével és azzal a döntéssel\, hogy véget vet a fájdalmas körfogásnak. A film mélyen emberi és megrendítő élményt nyújt\, amely hosszú időre a néző emlékezetébe vésődik. \nHelyszín: Pók utcai lakótelep (Vitorla utca) \nEsőnap: 2025. július 17.\, csütörtök
URL:https://www.obudainyar.hu/esemeny/velunk-veget-er/
CATEGORIES:PikNik Mozi
ATTACH;FMTTYPE=image/png:https://www.obudainyar.hu/wp-content/uploads/2025/05/piknik-mozi-2025-poszt-4.png
END:VEVENT
BEGIN:VEVENT
DTSTART;TZID=Europe/Budapest:20250718T203000
DTEND;TZID=Europe/Budapest:20250718T203000
DTSTAMP:20260425T172951
CREATED:20250521T141322Z
LAST-MODIFIED:20250521T141322Z
UID:5234-1752870600-1752870600@www.obudainyar.hu
SUMMARY:A kezdő
DESCRIPTION:Pontosan ez a kiindulópontja A kezdő című szívmelengető vígjátéknak\, amelyben Robert De Niro és Anne Hathaway kiváló párosa egy generációkon átívelő\, szeretettel teli történetet mesél el. \nEz a film nemcsak humoros és szórakoztató\, hanem őszinte és emberi üzenetet is közvetít az újrakezdésről\, az elfogadásról és arról\, hogy sosem késő új értelmet találni az életben. \nHelyszín: Holdudvar park \nEsőnap: 2025. július 24.\, csütörtök
URL:https://www.obudainyar.hu/esemeny/a-kezdo/
CATEGORIES:PikNik Mozi
ATTACH;FMTTYPE=image/png:https://www.obudainyar.hu/wp-content/uploads/2025/05/piknik-mozi-2025-poszt-5.png
END:VEVENT
BEGIN:VEVENT
DTSTART;TZID=Europe/Budapest:20250725T203000
DTEND;TZID=Europe/Budapest:20250725T203000
DTSTAMP:20260425T172951
CREATED:20250521T141655Z
LAST-MODIFIED:20250521T141655Z
UID:5236-1753475400-1753475400@www.obudainyar.hu
SUMMARY:Semmelweis
DESCRIPTION:A film főszerepében Vecsei H. Miklós látható\, aki hitelesen és szenvedélyesen kelti életre az „anyák megmentőjét”. \nA Semmelweis egy lenyűgöző\, érzelmileg mély alkotás\, amely egyszerre szól bátorságról\, empátiáról és a hivatás iránti elköteleződésről. Különösen ajánlott annak\, aki szereti a valós eseményeken alapuló\, inspiráló történeteket – és büszke magyar örökségünkre. \nHelyszín: Tímár utcai Obeliszk melletti zöld terület \nEsőnap: 2025. július 31.\, csütörtök
URL:https://www.obudainyar.hu/esemeny/semmelweis/
CATEGORIES:PikNik Mozi
ATTACH;FMTTYPE=image/png:https://www.obudainyar.hu/wp-content/uploads/2025/05/piknik-mozi-2025-poszt-6.png
END:VEVENT
END:VCALENDAR